BEGIN:VCALENDAR
VERSION:2.0
PRODID:-//Special Education School in Bangalore - Chiranthana - ECPv6.15.13//NONSGML v1.0//EN
CALSCALE:GREGORIAN
METHOD:PUBLISH
X-ORIGINAL-URL:https://chiranthana.in
X-WR-CALDESC:Events for Special Education School in Bangalore - Chiranthana
REFRESH-INTERVAL;VALUE=DURATION:PT1H
X-Robots-Tag:noindex
X-PUBLISHED-TTL:PT1H
BEGIN:VTIMEZONE
TZID:UTC
BEGIN:STANDARD
TZOFFSETFROM:+0000
TZOFFSETTO:+0000
TZNAME:UTC
DTSTART:20250101T000000
END:STANDARD
END:VTIMEZONE
BEGIN:VEVENT
DTSTART;TZID=UTC:20260214T080000
DTEND;TZID=UTC:20260214T170000
DTSTAMP:20260422T131051
CREATED:20260129T062545Z
LAST-MODIFIED:20260225T053347Z
UID:2324-1771056000-1771088400@chiranthana.in
SUMMARY:Walkathon
DESCRIPTION:
URL:https://chiranthana.in/event/walkathon/
CATEGORIES:Walkathon
ATTACH;FMTTYPE=image/png:https://chiranthana.in/wp-content/uploads/2026/01/Walkathon.png
END:VEVENT
END:VCALENDAR